BEGIN:VCALENDAR
VERSION:2.0
PRODID:-//eventon.com NONSGML v1.0//EN
CALSCALE:GREGORIAN
METHOD:PUBLISH
BEGIN:VEVENT
UID:69e75f43d06af
DTSTAMP:20260421T112803Z
DTSTART:20260314T180000Z
DTEND:20260314T200000Z
LOCATION:Stadttheater Heide Rosenstraße 15-19\,  Heide\,  Schleswig-Holstein 25746\,  Deutschland
SUMMARY:Alles kein Akt
DESCRIPTION:Wenn der Tenor krank wird\,  geschiedene Paare aufeinandertreff
 en und plötzlich pikante Bekanntschaften ans Licht kommen\,  ist der perfe
 kte Musical-Abend in Gefahr – oder hat gerade erst begonnen. Zwei Stunden
  vor der Preisverleihung des Verbandes der deutschsprachigen Sachbuchverleg
 erinnen und Sachbuchverleger e. V. soll das Gesangsquartett „The Honeysuc
 kle Roses“ auftreten. Drei Songs\, [..]\nhttps://schleswig-holstein.sh/bl
 og/veranstaltungen/alles-kein-akt/
URL:https://schleswig-holstein.sh/blog/veranstaltungen/alles-kein-akt/
END:VEVENT
END:VCALENDAR