BEGIN:VCALENDAR
VERSION:2.0
PRODID:-//eventon.com NONSGML v1.0//EN
CALSCALE:GREGORIAN
METHOD:PUBLISH
BEGIN:VEVENT
UID:69e74bfe4d884
DTSTAMP:20260421T100550Z
DTSTART:20260319T183000Z
DTEND:20260319T200000Z
LOCATION:Stadttheater Heide Rosenstraße 15-19\,  Heide\,  Schleswig-Holstein 25746\,  Deutschland
SUMMARY:Theater im Gespräch
DESCRIPTION:Wie entstehen die Kostüme zu einer Inszenierung? Wie ist der W
 eg vom Entwurf bis zum Einsatz auf der Bühne? Wer entscheidet\,  welches M
 aterial verwendet wird? Gibt es das Kleid auch eine Nummer größer? Und wa
 s passiert eigentlich mit all den Kleidungsstücken\,  wenn ein Stück nich
 t mehr auf dem Spielplan steht?[..]\nhttps://schleswig-holstein.sh/blog/ver
 anstaltungen/theater-im-gespraech/
URL:https://schleswig-holstein.sh/blog/veranstaltungen/theater-im-gespraech/
END:VEVENT
END:VCALENDAR