BEGIN:VCALENDAR
VERSION:2.0
PRODID:-//eventon.com NONSGML v1.0//EN
CALSCALE:GREGORIAN
METHOD:PUBLISH
BEGIN:VEVENT
UID:69e78ac2b5e4d
DTSTAMP:20260421T143338Z
DTSTART:20260304T173000Z
DTEND:20260304T200000Z
LOCATION:Galerie Brennwald Hardenbergstraße 20\,  24105 Kiel
SUMMARY:Zuflucht im Sturm
DESCRIPTION:Die Berliner Künstlerinnen Lisa Faustmann und Lilith Nossol ve
 rstehen Druckgrafik nicht als rein reproduktives Medium\,  sondern als expe
 rimentellen Erfahrungsraum\,  in dem Wahrnehmung\,  Material und Emotion mi
 teinander verschmelzen. Jeder Druck ist Ergebnis eines offenen Prozesses\, 
  in dem Zufall\,  Materialität und bewusste Setzung gleichwertig wirken. D
 ie Natur dient ihnen dabei nicht als[..]\nhttps://schleswig-holstein.sh/blo
 g/veranstaltungen/zuflucht-im-sturm-2/
URL:https://schleswig-holstein.sh/blog/veranstaltungen/zuflucht-im-sturm-2/
END:VEVENT
END:VCALENDAR