BEGIN:VCALENDAR
VERSION:2.0
PRODID:-//eventon.com NONSGML v1.0//EN
CALSCALE:GREGORIAN
METHOD:PUBLISH
BEGIN:VEVENT
UID:69e6289a3c708
DTSTAMP:20260420T132234Z
DTSTART:20260305T130000Z
DTEND:20260328T170000Z
LOCATION:Galerie Brennwald Hardenbergstraße 20\,  24105 Kiel
SUMMARY:Zuflucht im Sturm
DESCRIPTION:Die Berliner Künstlerinnen Lisa Faustmann und Lilith Nossol ve
 rstehen Druckgrafik nicht als rein reproduktives Medium\,  sondern als expe
 rimentellen Erfahrungsraum\,  in dem Wahrnehmung\,  Material und Emotion mi
 teinander verschmelzen. Jeder Druck ist Ergebnis eines offenen Prozesses\, 
  in dem Zufall\,  Materialität und bewusste Setzung gleichwertig wirken. D
 ie Natur dient ihnen dabei nicht als[..]\nhttps://schleswig-holstein.sh/blo
 g/veranstaltungen/zuflucht-im-sturm/
URL:https://schleswig-holstein.sh/blog/veranstaltungen/zuflucht-im-sturm/
END:VEVENT
END:VCALENDAR