BEGIN:VCALENDAR
VERSION:2.0
PRODID:-//eventon.com NONSGML v1.0//EN
CALSCALE:GREGORIAN
METHOD:PUBLISH
BEGIN:VEVENT
UID:69e772d619493
DTSTAMP:20260421T125134Z
DTSTART:20260321T193000Z
DTEND:20260321T225900Z
LOCATION:Speicher Husum Hafenstraße 17\,  25813 Husum
SUMMARY:D/troit
DESCRIPTION:Wenn James Brown\,  Marvin Gaye und The Black Keys eine Band gr
 ünden würden\,  käme wohl D/troit dabei heraus. Das dänische Soul-Quint
 ett bringt mit seinem neuen Album „Heavy“ eine explosive Mischung aus 6
 0s-R’n’B\,  Funk und Rock’n’Roll auf die Bühne – tiefgründig\, 
  tanzbar und mitreißend modern. Erlebt live\,  wie diese stilvollen Gentle
 men[..]\nhttps://schleswig-holstein.sh/blog/veranstaltungen/d-troit/
URL:https://schleswig-holstein.sh/blog/veranstaltungen/d-troit/
END:VEVENT
END:VCALENDAR