BEGIN:VCALENDAR
VERSION:2.0
PRODID:-//eventon.com NONSGML v1.0//EN
CALSCALE:GREGORIAN
METHOD:PUBLISH
BEGIN:VEVENT
UID:69e77285bab4a
DTSTAMP:20260421T125013Z
DTSTART:20260328T193000Z
DTEND:20260328T225900Z
LOCATION:Speicher Husum Hafenstraße 17\,  25813 Husum
SUMMARY:Fastmusic
DESCRIPTION:Die erste 7-Inch-Single von fastmusic erschien im März 2023 un
 d schlug sofort ein wie eine Bombe: „wow“ wurde von den renommierten de
 utschen Radiosendern ByteFM und Zündfunk zum „Track des Tages“ gekürt
 . Bela Fast stammt aus Leipzig\,  und sein kostbarer\,  minimalistischer Po
 p ist einzigartig. Beeinflusst von den sparsamen\,  aber funkelnden Gitarre
 nlicks[..]\nhttps://schleswig-holstein.sh/blog/veranstaltungen/fastmusic/
URL:https://schleswig-holstein.sh/blog/veranstaltungen/fastmusic/
END:VEVENT
END:VCALENDAR