BEGIN:VCALENDAR
VERSION:2.0
PRODID:-//eventon.com NONSGML v1.0//EN
CALSCALE:GREGORIAN
METHOD:PUBLISH
BEGIN:VEVENT
UID:69e789c8bda19
DTSTAMP:20260421T142928Z
DTSTART:20260404T183000Z
DTEND:20260404T215900Z
LOCATION:Speicher Husum Hafenstraße 17\,  25813 Husum
SUMMARY:The Ukrainians
DESCRIPTION:Ein letztes Mal: Folk trifft Punk\,  Ost trifft West. Ihre Musi
 k – ob die aberwitzigen Coverversionen von The Smiths\,  den Sex Pistols 
 und Kraftwerk bis zu Motörhead auf Ukrainisch oder die ukrainischen Volksl
 ieder in Punkversion – wurde schon im Weltall und in einem Nike-Spot mit 
 Stabhochsprunglegende Sergey Bubka gefeiert\,  sowie[..]\nhttps://schleswig
 -holstein.sh/blog/veranstaltungen/the-ukrainians/
URL:https://schleswig-holstein.sh/blog/veranstaltungen/the-ukrainians/
END:VEVENT
END:VCALENDAR