BEGIN:VCALENDAR
VERSION:2.0
PRODID:-//eventon.com NONSGML v1.0//EN
CALSCALE:GREGORIAN
METHOD:PUBLISH
BEGIN:VEVENT
UID:69e7b2f70a2a6
DTSTAMP:20260421T172511Z
DTSTART:20260308T101500Z
DTEND:20260329T160000Z
LOCATION:
SUMMARY:24211 Preetz\,  Gasstraße 5 AUSSTELLUNG VON WEGEN
DESCRIPTION:VON WEGEN… heißt die neue Ausstellung in den Galerieräumen 
 des Kunstkreises Preetz im März 2026. Und der Titel ist Programm – in di
 eser Ausstellung treffen drei Lebenswege in Form von verschiedenen künstle
 rischen Umsetzungen aufeinander. Die Künstlerinnen Angela Sellschopp (Phot
 ographik)\,  Uta Hoepner-Neutze (Malerei) und Sabine Rieck (Radierung) zeig
 en ihre Arbeiten. Die[..]\nhttps://schleswig-holstein.sh/blog/veranstaltung
 en/24211-preetz-gasstrasse-5-kunstausstellung-von-wegen/
URL:https://schleswig-holstein.sh/blog/veranstaltungen/24211-preetz-gasstrasse-5-kunstausstellung-von-wegen/
END:VEVENT
END:VCALENDAR