BEGIN:VCALENDAR
VERSION:2.0
PRODID:-//eventon.com NONSGML v1.0//EN
CALSCALE:GREGORIAN
METHOD:PUBLISH
BEGIN:VEVENT
UID:69e733d23e7eb
DTSTAMP:20260421T082242Z
DTSTART:20260416T180000Z
DTEND:20260416T215900Z
LOCATION:Speicher Husum Hafenstraße 17\,  25813 Husum
SUMMARY:Hamburg Spinners
DESCRIPTION:Mit Orgel\,  Gitarre\,  Bass und Drums bringen die Hamburg Spin
 ners ihren unverkennbaren Sound auf die Bühne – eine elektrisierende Mis
 chung aus Soul\,  R&amp;B und Mod Jazz\,  live und direkt wie auf ihrem neu
 en Album „Hamburg Spinners im Schwarzwald“. Eingespielt in den legendä
 ren MPS-Studios\,  erinnern ihre Grooves an Booker T.\,  Georgie[..]\nhttps
 ://schleswig-holstein.sh/blog/veranstaltungen/hamburg-spinners/
URL:https://schleswig-holstein.sh/blog/veranstaltungen/hamburg-spinners/
END:VEVENT
END:VCALENDAR