BEGIN:VCALENDAR
VERSION:2.0
PRODID:-//eventon.com NONSGML v1.0//EN
CALSCALE:GREGORIAN
METHOD:PUBLISH
BEGIN:VEVENT
UID:69eb4c5217ad9
DTSTAMP:20260424T105618Z
DTSTART:20260422T180000Z
DTEND:20260422T215900Z
LOCATION:Speicher Husum HafenstraÃŸe 17\,  25813 Husum
SUMMARY:Wintersleep
DESCRIPTION:Nach sieben gefeierten Alben melden sich die kanadischen Indie-
 Rock-Veteranen Wintersleep wieder zurÃ¼ck! â€žWishing Moonâ€œ\,  das achte 
 Album der Band\,  erscheint am 27. MÃ¤rz 2026 und lÃ¤utet eine neue Ã„ra fÃ
 ¼r die Band ein. â€žWishing Moonâ€œ verspricht einen glorreichen Garage-Roc
 k-Rausch\,  eine perfekte Alchemie aus Jubel und Erhabenheit\,  die den Sou
 nd von[..]\nhttps://schleswig-holstein.sh/blog/veranstaltungen/wintersleep/
URL:https://schleswig-holstein.sh/blog/veranstaltungen/wintersleep/
END:VEVENT
END:VCALENDAR