BEGIN:VCALENDAR
VERSION:2.0
PRODID:-//eventon.com NONSGML v1.0//EN
CALSCALE:GREGORIAN
METHOD:PUBLISH
BEGIN:VEVENT
UID:69eb49c17235f
DTSTAMP:20260424T104521Z
DTSTART:20260424T180000Z
DTEND:20260424T215900Z
LOCATION:Speicher Husum Hafenstraße 17\,  25813 Husum
SUMMARY:Dell / Lillinger / Westergaard
DESCRIPTION:Supermodern\,  ein musikalischer Hochgenuss Seit nahezu 15 Jahr
 en arbeitet das DLW-Trio zusammen und gibt mittlerweile den Ton an in der m
 odernen europäischen Musikszene\,  denn das Trio hat längst die Grenzen d
 es Jazz hinter sich gelassen. DLW das sind der klangmalerische Vibraphonist
  Christopher Dell\,  der virtuose dänische Bassist Jonas Westergaard und[.
 .]\nhttps://schleswig-holstein.sh/blog/veranstaltungen/dell-lillinger-weste
 rgaard/
URL:https://schleswig-holstein.sh/blog/veranstaltungen/dell-lillinger-westergaard/
END:VEVENT
END:VCALENDAR