BEGIN:VCALENDAR
VERSION:2.0
PRODID:-//eventon.com NONSGML v1.0//EN
CALSCALE:GREGORIAN
METHOD:PUBLISH
BEGIN:VEVENT
UID:69eb4c73538f6
DTSTAMP:20260424T105651Z
DTSTART:20260425T183000Z
DTEND:20260425T215900Z
LOCATION:Speicher Husum Hafenstraße 17\,  25813 Husum
SUMMARY:Stina Holmquist
DESCRIPTION:Stina Holmquist hat einen eigenen\,  unverwechselbaren Indie- u
 nd Art-Pop entwickelt\,  in dem atmosphärisch und groß angelegte Indie-So
 unds immer wieder überraschend von energiegeladenen Momenten durchbrochen 
 werden. Mit ihrer Band entstehen hypnotische\,  beinahe atemlos machende So
 ngstrukturen in Verbindung mit gesanglich beeindruckenden Eskapaden. Stina 
 erzählt dabei in ihren Songs Geschichten\,  die tief in[..]\nhttps://schle
 swig-holstein.sh/blog/veranstaltungen/stina-holmquist/
URL:https://schleswig-holstein.sh/blog/veranstaltungen/stina-holmquist/
END:VEVENT
END:VCALENDAR