BEGIN:VCALENDAR
VERSION:2.0
PRODID:-//eventon.com NONSGML v1.0//EN
CALSCALE:GREGORIAN
METHOD:PUBLISH
BEGIN:VEVENT
UID:69e7b2cc88f16
DTSTAMP:20260421T172428Z
DTSTART:20260502T180000Z
DTEND:20260502T215900Z
LOCATION:Speicher Husum Hafenstraße 17\,  25813 Husum
SUMMARY:Double Trouble w/Ganser   Maida Vale
DESCRIPTION:Die Chicagoer Art-Rock-Band Ganser erhielt 2020 mit ihrem zweit
 en Album „Just Look at That Sky“ breite Anerkennung und landete auf Bes
 tenlisten von Vice\,  Rolling Stone und Paste. Während der Pandemie entsta
 nd eine Remix-EP in Zusammenarbeit mit Andy Bell\,  Sad13\,  Adam Faulkner 
 und Bartees Strange\,  parallel hielt die Band online Kontakt[..]\nhttps://
 schleswig-holstein.sh/blog/veranstaltungen/double-trouble-w-ganser-maida-va
 le/
URL:https://schleswig-holstein.sh/blog/veranstaltungen/double-trouble-w-ganser-maida-vale/
END:VEVENT
END:VCALENDAR