BEGIN:VCALENDAR
VERSION:2.0
PRODID:-//eventon.com NONSGML v1.0//EN
CALSCALE:GREGORIAN
METHOD:PUBLISH
BEGIN:VEVENT
UID:69ecf66af0478
DTSTAMP:20260425T171418Z
DTSTART:20260508T180000Z
DTEND:20260508T215900Z
LOCATION:Speicher Husum Hafenstraße 17\,  25813 Husum
SUMMARY:folkBALTICA-Konzert: Andreas Hofmeir   Ordseglarna
DESCRIPTION:Andreas Hofmeir (D) Andreas Hofmeir: Tuba / Vladislav Cojocaru:
  Akkordeon Andreas Hofmeir – einer der besten und vielseitigsten Tubisten
  der Gegenwart – ist ein Grenzgänger zwischen den Genres: Er ist Profess
 or an der Universität Mozarteum Salzburg\,  war Gründungsmitglied der bay
 erischen Kult-Band LaBrassBanda\,  ist als Dirigent tätig und erhielt sowo
 hl als[..]\nhttps://schleswig-holstein.sh/blog/veranstaltungen/folkbaltica-
 konzert-andreas-hofmeir-ordseglarna/
URL:https://schleswig-holstein.sh/blog/veranstaltungen/folkbaltica-konzert-andreas-hofmeir-ordseglarna/
END:VEVENT
END:VCALENDAR