BEGIN:VCALENDAR
VERSION:2.0
PRODID:-//eventon.com NONSGML v1.0//EN
CALSCALE:GREGORIAN
METHOD:PUBLISH
BEGIN:VEVENT
UID:69ecdfab79cdf
DTSTAMP:20260425T153715Z
DTSTART:20260509T173000Z
DTEND:20260509T215900Z
LOCATION:Speicher Husum Hafenstraße 17\,  25813 Husum
SUMMARY:Poetry Slam
DESCRIPTION:Ein Poetry Slam ist lebendige Literatur\,  ein Dichterwettstrei
 t der absoluten Vielfalt: vom stillen\,  lyrischen Text über Satire und Ra
 p-Poem bis hin zum knalligen Performance-Text ist alles erlaubt. Die Texte 
 müssen selbst verfasst sein und innerhalb von 6 Minuten vorgetragen werden
 . Was gefällt\,  entscheidet das Publikum! Die Sachpreise werden gestiftet
  von[..]\nhttps://schleswig-holstein.sh/blog/veranstaltungen/poetry-slam/
URL:https://schleswig-holstein.sh/blog/veranstaltungen/poetry-slam/
END:VEVENT
END:VCALENDAR