BEGIN:VCALENDAR
VERSION:2.0
PRODID:-//eventon.com NONSGML v1.0//EN
CALSCALE:GREGORIAN
METHOD:PUBLISH
BEGIN:VEVENT
UID:69e789c245d99
DTSTAMP:20260421T142922Z
DTSTART:20260516T183000Z
DTEND:20260516T215900Z
LOCATION:Speicher Husum Hafenstraße 17\,  25813 Husum
SUMMARY:Freddy Fischer & His Cosmic Rocktime Band
DESCRIPTION:„Alles ist alles“ heißt die 5. Platte von Freddy Fischer &
 amp; His Cosmic Rocktime Band und beschreibt damit auf Schönste die verbin
 dende aber niemals gleichmacherische Idee von Disko\,  einer Musikrichtung 
 der das Kunststück gelingt alle auf einen stampfenden Beat einzuschwören 
 und sie trotzdem darauf schweben zu lassen. Auf „Alles ist[..]\nhttps://s
 chleswig-holstein.sh/blog/veranstaltungen/freddy-fischer-his-cosmic-rocktim
 e-band/
URL:https://schleswig-holstein.sh/blog/veranstaltungen/freddy-fischer-his-cosmic-rocktime-band/
END:VEVENT
END:VCALENDAR