BEGIN:VCALENDAR
VERSION:2.0
PRODID:-//eventon.com NONSGML v1.0//EN
CALSCALE:GREGORIAN
METHOD:PUBLISH
BEGIN:VEVENT
UID:69e7b30dba4ca
DTSTAMP:20260421T172533Z
DTSTART:20260523T183000Z
DTEND:20260523T215900Z
LOCATION:Speicher Husum Hafenstraße 17\,  25813 Husum
SUMMARY:Arrested Denial\,  Violent Instinct   weitere Band
DESCRIPTION:Violent Instinct: Violent Instinct aus Hamburg verbinden den Sp
 irit des 80er-Punks mit modernem Street- und Oi!-Punk – laut\,  melodisch
  und kompromisslos. Angeführt von Frontfrau Aga\,  deren kraftvolle Stimme
  zwischen Röhren und Melodie pendelt\,  steht die Band für klare Haltung\
 ,  druckvolle Songs und eine mitreißende Live-Performance. Arrested Denial
 : Die Hamburger Punkrocker[..]\nhttps://schleswig-holstein.sh/blog/veransta
 ltungen/arrested-denial-violent-instinct-weitere-band/
URL:https://schleswig-holstein.sh/blog/veranstaltungen/arrested-denial-violent-instinct-weitere-band/
END:VEVENT
END:VCALENDAR