BEGIN:VCALENDAR
VERSION:2.0
PRODID:-//eventon.com NONSGML v1.0//EN
CALSCALE:GREGORIAN
METHOD:PUBLISH
BEGIN:VEVENT
UID:69e7b28351b9d
DTSTAMP:20260421T172315Z
DTSTART:20260524T180000Z
DTEND:20260524T215900Z
LOCATION:Speicher Husum Hafenstraße 17\,  25813 Husum
SUMMARY:Oh Hiroshima
DESCRIPTION:Oh Hiroshima stammen aus der schwedischen Kleinstadt Kristineha
 mn und bestehen in ihrer heutigen Form aus den Brüdern Jakob Hemström (Gi
 tarre/Gesang) und Oskar Nilsson (Schlagzeug). Vor über 15 Jahren begann da
 s Projekt als bescheidenes DIY-Post-Rock-Aufnahmeprojekt. Seitdem hat sich 
 die Band zu einer hoch angesehenen Studio- und Live-Formation entwickelt\, 
  die sich fest[..]\nhttps://schleswig-holstein.sh/blog/veranstaltungen/oh-h
 iroshima/
URL:https://schleswig-holstein.sh/blog/veranstaltungen/oh-hiroshima/
END:VEVENT
END:VCALENDAR