BEGIN:VCALENDAR
VERSION:2.0
PRODID:-//eventon.com NONSGML v1.0//EN
CALSCALE:GREGORIAN
METHOD:PUBLISH
BEGIN:VEVENT
UID:69e774332a9e3
DTSTAMP:20260421T125723Z
DTSTART:20260315T100000Z
DTEND:20260523T130000Z
LOCATION:Galerie Tobien Neustadt 8-10\,  25813 Husum
SUMMARY:Husum: Ulrich Grimm - Geschichten eines Druckers
DESCRIPTION:Anlass der Ausstellung ist der bundesweite Tag der Druckkunst\,
   der die traditionellen Drucktechniken würdigt. Am 15. März 2018 wurden 
 sie von der Deutschen UNESCO-Kommission in das Bundesweite Verzeichnis als 
 immaterielles Kulturerbe aufgenommen. Im Mittelpunkt der Ausstellung stehen
  außergewöhnliche Werke aus der Druckwerkstatt von Ulrich Grimm\,  entsta
 nden in enger Zusammenarbeit mit[..]\nhttps://schleswig-holstein.sh/blog/ve
 ranstaltungen/husum-ulrich-grimm-geschichten-eines-druckers/
URL:https://schleswig-holstein.sh/blog/veranstaltungen/husum-ulrich-grimm-geschichten-eines-druckers/
END:VEVENT
END:VCALENDAR