BEGIN:VCALENDAR
VERSION:2.0
PRODID:-//eventon.com NONSGML v1.0//EN
CALSCALE:GREGORIAN
METHOD:PUBLISH
BEGIN:VEVENT
UID:69ecf6ad4bf2e
DTSTAMP:20260425T171525Z
DTSTART:20260316T090000Z
DTEND:20260523T130000Z
LOCATION:Galerie Tobien Neustadt 8-10\,  25813 Husum
SUMMARY:Husum: Ulrich Grimm - Geschichten eines Druckers
DESCRIPTION:Im Mittelpunkt der Ausstellung stehen außergewöhnliche Werke 
 aus der Druckwerkstatt von Ulrich Grimm\,  entstanden in enger Zusammenarbe
 it mit Künstlerinnen und Künstlern aus dem In- und Ausland. Der Magdeburg
 er Drucker gründete 1986 eine eigene Siebdruckwerkstatt\,  zu einer Zeit\,
   in der künstlerisches Arbeiten in der DDR stark von staatlichen Struktur
 en bestimmt war.[..]\nhttps://schleswig-holstein.sh/blog/veranstaltungen/hu
 sum-ulrich-grimm-geschichten-eines-druckers-2/
URL:https://schleswig-holstein.sh/blog/veranstaltungen/husum-ulrich-grimm-geschichten-eines-druckers-2/
END:VEVENT
END:VCALENDAR