BEGIN:VCALENDAR
VERSION:2.0
PRODID:-//eventon.com NONSGML v1.0//EN
CALSCALE:GREGORIAN
METHOD:PUBLISH
BEGIN:VEVENT
UID:69e6289f12ce7
DTSTAMP:20260420T132239Z
DTSTART:20260321T190000Z
DTEND:20260321T225900Z
LOCATION:Kulturhaus Wilster m Markt 14a\,  Wilster 25554\,  DE\,  Wilster\,  DE\,  Wilster\,  DE\,  Wilster\,  DE\,  Wilster\,  DE\,  Wilster\,  DE
SUMMARY:Bibi & Ina - Comedy Mädelsabend mit dem Programm MÄNNER
DESCRIPTION:Das Comedy-Duo ‚Bibi &amp; Ina’ kommt wieder ins Kulturhaus
  Wilster! Im Gepäck haben die beiden: MÄNNER! So heißt ihr brandneues Pr
 ogramm. Hintersinnig und frech gehen sie der Frage nach: „Sind Männer no
 ch zeitgemäß\,  oder können die weg?“ Eigentlich machen Männer nur Dr
 eck\,  kosten Nerven und belasten den Staatshaushalt – aber[..]\nhttps://
 schleswig-holstein.sh/blog/veranstaltungen/bibi-ina-comedy-maedelsabend-mit
 -dem-programm-maenner/
URL:https://schleswig-holstein.sh/blog/veranstaltungen/bibi-ina-comedy-maedelsabend-mit-dem-programm-maenner/
END:VEVENT
END:VCALENDAR