BEGIN:VCALENDAR
VERSION:2.0
PRODID:-//eventon.com NONSGML v1.0//EN
CALSCALE:GREGORIAN
METHOD:PUBLISH
BEGIN:VEVENT
UID:69e772919c797
DTSTAMP:20260421T125025Z
DTSTART:20260328T130000Z
DTEND:20260328T160000Z
LOCATION:Kulturhaus Wilster m Markt 14a\,  Wilster 25554\,  DE\,  Wilster\,  DE\,  Wilster\,  DE\,  Wilster\,  DE\,  Wilster\,  DE\,  Wilster\,  DE
SUMMARY:Workshop Jiddische Tänze - mit Mark Kovnatskiy
DESCRIPTION:Was wissen wir überhaupt über traditionelle jiddische (jüdis
 che osteuropäische) Tänze? Eine Vielzahl von Klischees und Stereotypen pr
 ägen unsere Vorstellungen\,  meist basierend auf choreografischen Produkti
 onen wie „Fiddler on the Roof“. Mit der Realität hat das allerdings se
 hr wenig zu tun. Im Rahmen des Jiddisch-Tanz-Workshops können wir eine Rei
 he traditioneller Tänze der[..]\nhttps://schleswig-holstein.sh/blog/verans
 taltungen/workshop-jiddische-taenze-mit-mark-kovnatskiy/
URL:https://schleswig-holstein.sh/blog/veranstaltungen/workshop-jiddische-taenze-mit-mark-kovnatskiy/
END:VEVENT
END:VCALENDAR