BEGIN:VCALENDAR
VERSION:2.0
PRODID:-//eventon.com NONSGML v1.0//EN
CALSCALE:GREGORIAN
METHOD:PUBLISH
BEGIN:VEVENT
UID:69e73446e327a
DTSTAMP:20260421T082438Z
DTSTART:20260309T180000Z
DTEND:20260329T150000Z
LOCATION:Brunswiker Pavillon Brunswiker Straße 13\,  24103 Kiel
SUMMARY:Die Neuen 2026
DESCRIPTION:Die Neuen 2026 – Traditionell startet das Ausstellungsjahr im
  Brunswiker Pavillon mit der Vorstellung der neuen Mitglieder des BBK Schle
 swig-Holstein. Vom 9. bis 29. März heißt der Verband die Kolleg*innen\,  
 die im vergangenen Jahr neu eingetreten sind\,  mit der exklusiven Ausstell
 ung willkommen. Es werden sich neun Künstler*innen mit unterschiedlichen P
 ositionen[..]\nhttps://schleswig-holstein.sh/blog/veranstaltungen/die-neuen
 -2026/
URL:https://schleswig-holstein.sh/blog/veranstaltungen/die-neuen-2026/
END:VEVENT
END:VCALENDAR