BEGIN:VCALENDAR
VERSION:2.0
PRODID:-//eventon.com NONSGML v1.0//EN
CALSCALE:GREGORIAN
METHOD:PUBLISH
BEGIN:VEVENT
UID:69e772d824034
DTSTAMP:20260421T125136Z
DTSTART:20260322T143000Z
DTEND:20260322T153000Z
LOCATION:Stadtmuseum Warleberger Hof Dänische Straße 19\,  24103 Kiel
SUMMARY:Entdeckertour für Groß und Klein“ – Familienführung für Eltern und Kind
DESCRIPTION:Während die Erwachsenen die Museumsschätze aus der Wechselaus
 stellung im Rahmen einer Sonntagsführung erkunden\,  packen die kleinen Mu
 seumsbesucher*innen mit der Kunsthistorikerin Dr. Birte Gaehtke den geheimn
 isvollen\,  prall gefüllten Museumskoffer aus. Lasst euch überraschen\,  
 was wir darin finden werden! Anmeldung unter 0431 901 3425 ohne Altersbesch
 ränkung Eintritt frei\nhttps://schleswig-holstein.sh/blog/veranstaltungen/
 entdeckertour-fuer-gross-und-klein-familienfuehrung-fuer-eltern-und-kind/
URL:https://schleswig-holstein.sh/blog/veranstaltungen/entdeckertour-fuer-gross-und-klein-familienfuehrung-fuer-eltern-und-kind/
END:VEVENT
END:VCALENDAR