BEGIN:VCALENDAR
VERSION:2.0
PRODID:-//eventon.com NONSGML v1.0//EN
CALSCALE:GREGORIAN
METHOD:PUBLISH
BEGIN:VEVENT
UID:69e733fe317bb
DTSTAMP:20260421T082326Z
DTSTART:20260322T100000Z
DTEND:20260322T110000Z
LOCATION:Schifffahrtsmuseum Fischhalle Wall 65\,  24103 Kiel
SUMMARY:Kinderführung: Was macht ein „Seehund“ im Museum? – Kinder entdecken die Fischhalle
DESCRIPTION:Kinderführung: Was macht ein „Seehund“ im Museum? – Kind
 er entdecken die Fischhalle Wie baute man früher Schiffe? Welche Hilfsmitt
 el hatten die Seeleute\,  um sich bei Wind und Wetter auf dem Ozean zurecht
 zufinden? Und wie kommt eigentlich ein &#8222;Seehund&#8220; ins Museum? Au
 f diese und viele andere kuriose Fragen rund um das[..]\nhttps://schleswig-
 holstein.sh/blog/veranstaltungen/kinderfuehrung-was-macht-ein-seehund-im-mu
 seum-kinder-entdecken-die-fischhalle-2/
URL:https://schleswig-holstein.sh/blog/veranstaltungen/kinderfuehrung-was-macht-ein-seehund-im-museum-kinder-entdecken-die-fischhalle-2/
END:VEVENT
END:VCALENDAR