BEGIN:VCALENDAR
VERSION:2.0
PRODID:-//eventon.com NONSGML v1.0//EN
CALSCALE:GREGORIAN
METHOD:PUBLISH
BEGIN:VEVENT
UID:69e7729123592
DTSTAMP:20260421T125025Z
DTSTART:20260326T160000Z
DTEND:20260326T210000Z
LOCATION:Stadtmuseum Warleberger Hof Dänische Straße 19\,  24103 Kiel
SUMMARY:„Gehütete Schätze der Kulinarik“ – die Rezeptsammlung des Restaurant Lüneburg-Haus im Spiegelbild Kieler Identitäten
DESCRIPTION:Sammlungen sind mehr als Alltagsarbeit eines Museums: Materiell
 e Hinterlassenschaften spiegeln Kultur\,  Zugehörigkeit und Identitäten w
 ider. Nicht nur die Objekte in den Ausstellungen erzählen davon\,  sondern
  auch die regionale Küche. Nach einem Ausstellungssundgang im Stadtmuseum 
 lernen Sie innerhalb kleiner Gerichte die umfangreiche Rezeptsammlung des L
 üneburg Hauses kennen und erfahren\,  wie Speis[..]\nhttps://schleswig-hol
 stein.sh/blog/veranstaltungen/gehuetete-schaetze-der-kulinarik-die-rezeptsa
 mmlung-des-restaurant-lueneburg-haus-im-spiegelbild-kieler-identitaeten/
URL:https://schleswig-holstein.sh/blog/veranstaltungen/gehuetete-schaetze-der-kulinarik-die-rezeptsammlung-des-restaurant-lueneburg-haus-im-spiegelbild-kieler-identitaeten/
END:VEVENT
END:VCALENDAR