BEGIN:VCALENDAR
VERSION:2.0
PRODID:-//eventon.com NONSGML v1.0//EN
CALSCALE:GREGORIAN
METHOD:PUBLISH
BEGIN:VEVENT
UID:69e7343ec26cb
DTSTAMP:20260421T082430Z
DTSTART:20260314T140000Z
DTEND:20260314T225900Z
LOCATION:Kiel Faluner Weg 6\,  24109 Kiel
SUMMARY:Lesung Kriegskinder – Kriegsenkel im Bürgerhaus Mettenhof Vaasastr.43 a
DESCRIPTION:Zu diesem Thema lesen die Autorinnen Gerda Brömel (93) und Ann
 eke Polenski (64 ) veröffentliche und unveröffentliche eigene Texte. Der 
 Begriff Kriegskinder wurde in den 90 zigern Jahren für eine &#8222;vergess
 ene Generation&#8220; geprägt. Denn zu dieser Zeit begannen Menschen der G
 eburtsjahre 1930 bis 1945 öffentlich über ihre bis zum Rentenalter[..]\nh
 ttps://schleswig-holstein.sh/blog/veranstaltungen/lesung-kriegskinder-krieg
 senkel-2/
URL:https://schleswig-holstein.sh/blog/veranstaltungen/lesung-kriegskinder-kriegsenkel-2/
END:VEVENT
END:VCALENDAR