BEGIN:VCALENDAR
VERSION:2.0
PRODID:-//eventon.com NONSGML v1.0//EN
CALSCALE:GREGORIAN
METHOD:PUBLISH
BEGIN:VEVENT
UID:69e64021a9dde
DTSTAMP:20260420T150257Z
DTSTART:20260307T190000Z
DTEND:20260307T210000Z
LOCATION:Kunst und Kultur Baustelle 8001 | ex-Sultanmarkt Neustadt 26\,  Flensburg\,  Schleswig-Holstein 24939\,  Deutschland\,  Flensburg\,  Schleswig-Holstein 24939\,  Deutschland
SUMMARY:Flensburg | Rebecca Trescher Quartett
DESCRIPTION:Getrieben von einer unbändigen Neugier und Experimentierfreude
  zwischen Jazz und sinfonisch geprägter zeitgenössischer Musik\,  hat Reb
 ecca Trescher sich einen hervorragenden Namen in der deutschen und internat
 ionalen Jazzszene erarbeitet. Die Natur und ihre Kompositionsideen stehen d
 abei meist in enger Verbindung zueinander; ihre Musik hat etwas Geerdetes u
 nd gleichzeitig etwas Luftiges. Trescher[..]\nhttps://schleswig-holstein.sh
 /blog/veranstaltungen/flensburg-rebecca-trescher-quartett/
URL:https://schleswig-holstein.sh/blog/veranstaltungen/flensburg-rebecca-trescher-quartett/
END:VEVENT
END:VCALENDAR