BEGIN:VCALENDAR
VERSION:2.0
PRODID:-//eventon.com NONSGML v1.0//EN
CALSCALE:GREGORIAN
METHOD:PUBLISH
BEGIN:VEVENT
UID:69e63b26127b8
DTSTAMP:20260420T144142Z
DTSTART:20260315T103000Z
DTEND:20260607T150000Z
LOCATION:24340 Eckernförde Gudewerdtstraße 71
SUMMARY:Museum Eckernförde "HORIZONT"
DESCRIPTION:Nach bereits drei erfolgreichen Ausstellungen im Museum Eckernf
 örde richtet sich die erneute Kooperation mit dem Berufsverband Angewandte
  Kunst Schleswig-Holstein auf den „Horizont“ – der ganz im Wortsinn\,
   aber auch im übertragenen Sinn betrachtet werden kann. Der Begriff „ 
 Horizont“ ermöglicht viele Assoziationen. Der Horizont bildet die Grenzl
 inie zwischen Himmel und[..]\nhttps://schleswig-holstein.sh/blog/veranstalt
 ungen/museum-eckernfoerde-horizont/
URL:https://schleswig-holstein.sh/blog/veranstaltungen/museum-eckernfoerde-horizont/
END:VEVENT
END:VCALENDAR