BEGIN:VCALENDAR
VERSION:2.0
PRODID:-//eventon.com NONSGML v1.0//EN
CALSCALE:GREGORIAN
METHOD:PUBLISH
BEGIN:VEVENT
UID:69e79e20d2041
DTSTAMP:20260421T155616Z
DTSTART:20260409T173000Z
DTEND:20260409T193000Z
LOCATION:ex-Sultanmarkt\,  Verein Kunst- und Kulturbaustelle 8001 Neustadt 26\,  24939 Flensburg
SUMMARY:Flensburg: ChConcerts präsentiert "Cosmic Latte"
DESCRIPTION:Ein Herzensprojekt des in Flensburg geborenen Gitarristen Ruben
  Röh ist die Band COSMIC LATTE. Das Instrumentaltrio aus Hamburg mit Burka
 rd Ruppaner (drums) und Tim Steiner am Bass verbindet Elemente aus Fusion u
 nd Progressive mit eingängigen Hooks und ansteckenden Grooves\,  abenteuer
 lichen Harmonien und provokanten Improvisationen in zugänglichen Songstruk
 turen. Ruben Röh ist[..]\nhttps://schleswig-holstein.sh/blog/veranstaltung
 en/flensburg-chconcerts-praesentiert-cosmic-latte/
URL:https://schleswig-holstein.sh/blog/veranstaltungen/flensburg-chconcerts-praesentiert-cosmic-latte/
END:VEVENT
END:VCALENDAR