BEGIN:VCALENDAR
VERSION:2.0
PRODID:-//eventon.com NONSGML v1.0//EN
CALSCALE:GREGORIAN
METHOD:PUBLISH
BEGIN:VEVENT
UID:69eb67c3101c3
DTSTAMP:20260424T125323Z
DTSTART:20260329T093000Z
DTEND:20260426T160000Z
LOCATION:Kulturforum Schwimmhalle Schloss Plön Schlossgebiet 1a 24306 Plön
SUMMARY:Kulturforum Schwimmhalle Schloss Plön: Narrentief und Schachtelkopf. Imme Feldmann\,  Elmar Jacob\,  Menno Fahl.
DESCRIPTION:Narrentief und Schachtelkopf Menno Fahl\,  Elmar Jacob\,  Imme 
 Feldmann Plastiken\,  Grafiken\,  Gemälde und Holzschnitte\,  die die Schr
 ägheit des Daseins ausloten. * Vernissage am 29.3.26 um 11:30 Uhr Es sprec
 hen für den Kunstverein Professor Valentin Rothmaler\,  für den Kreis Lan
 drat Björn Demmin und zur Ausstellung Kunsthistorikerin Dr. Maren Welsch. 
 Musikalischer Beitrag[..]\nhttps://schleswig-holstein.sh/blog/veranstaltung
 en/kulturforum-schwimmhalle-schloss-ploen-narrentief-und-schachtelkopf-imme
 -feldmann-elmar-jacob-menno-fahl/
URL:https://schleswig-holstein.sh/blog/veranstaltungen/kulturforum-schwimmhalle-schloss-ploen-narrentief-und-schachtelkopf-imme-feldmann-elmar-jacob-menno-fahl/
END:VEVENT
END:VCALENDAR