BEGIN:VCALENDAR
VERSION:2.0
PRODID:-//eventon.com NONSGML v1.0//EN
CALSCALE:GREGORIAN
METHOD:PUBLISH
BEGIN:VEVENT
UID:69e63da29aa56
DTSTAMP:20260420T145218Z
DTSTART:20260602T130000Z
DTEND:20260602T160000Z
LOCATION:Museum für Regionalgeschichte Pönitz Lindenstraße 23\,  23684 Scharbeutz
SUMMARY:Pönitz: Sonderausstellung „Munition im Meer – das explosive Erbe“
DESCRIPTION:Zum Kriegsende vor 80 Jahren lagern in Deutschland noch unvorst
 ellbare Mengen an Munition und Kampfstoffen. Die Alliierten beschließen\, 
  diese in festgelegten Arealen in Nord- und Ost-see zu entsorgen. Die Lübe
 cker Bucht wird für die Beseitigung herkömmlicher Waffen und Munition aus
  der britischen Besatzungszone ausgewählt. Die Versenkung wird in Lübeck 
 von[..]\nhttps://schleswig-holstein.sh/blog/veranstaltungen/poenitz-sondera
 usstellung-munition-im-meer-das-explosive-erbe-2/var/ri-11.l-L1
URL:https://schleswig-holstein.sh/blog/veranstaltungen/poenitz-sonderausstellung-munition-im-meer-das-explosive-erbe-2/var/ri-11.l-L1
END:VEVENT
END:VCALENDAR