BEGIN:VCALENDAR
VERSION:2.0
PRODID:-//eventon.com NONSGML v1.0//EN
CALSCALE:GREGORIAN
METHOD:PUBLISH
BEGIN:VEVENT
UID:69e789c884b92
DTSTAMP:20260421T142928Z
DTSTART:20260412T150000Z
DTEND:20260412T215900Z
LOCATION:Eutiner Landesbibliothek Schlosspatz 4\,  23701 Eutin
SUMMARY:Eutin: Die wahre Geschichte der Germanen - Vortrag und Buchvorstellung von Karl Banghard
DESCRIPTION:Die Eutiner Landesbibliothek lädt zum Vortrag mit Buchvorstell
 ung des Spiegel-Bestsellers „Die wahre Geschichte der Germanen“ mit dem
  Autor Karl Banghard ein. Auf anschauliche und unterhaltsame Weise führt B
 anghard in seinem Vortrag zu verschiedenen Schlüsselmomenten der germanisc
 hen Geschichte. Anhand archäologischer Funde quer durch Europa zeigt er au
 f\,  dass die Germanen keineswegs[..]\nhttps://schleswig-holstein.sh/blog/v
 eranstaltungen/eutin-die-wahre-geschichte-der-germanen-vortrag-und-buchvors
 tellung-von-karl-banghard/
URL:https://schleswig-holstein.sh/blog/veranstaltungen/eutin-die-wahre-geschichte-der-germanen-vortrag-und-buchvorstellung-von-karl-banghard/
END:VEVENT
END:VCALENDAR