BEGIN:VCALENDAR
VERSION:2.0
PRODID:-//eventon.com NONSGML v1.0//EN
CALSCALE:GREGORIAN
METHOD:PUBLISH
BEGIN:VEVENT
UID:69eb5c96074e2
DTSTAMP:20260424T120542Z
DTSTART:20260425T220000Z
DTEND:20260425T220000Z
LOCATION:Niederdeutsche Bühne Flensburg - Studio Augustastr. 5\,  24937 Flensburg
SUMMARY:Flensburg: Niederdeutsches Schauspiel - De Vadder
DESCRIPTION:André versteht die Welt nicht mehr. Ständig verschwinden vert
 raute Dinge\,  und fremde Menschen tauchen in seinem Leben auf. Seine Liebl
 ingstochter meldet sich nicht mehr\,  dafür nervt die Andere umso mehr mit
  ihrer Fürsorge und Bevormundung. Hatte der Witwer und ehemalige Ingenieur
  nicht stets alles im Griff? Nun muss er feststellen\, [..]\nhttps://schles
 wig-holstein.sh/blog/veranstaltungen/flensburg-niederdeutsches-schauspiel-d
 e-vadder/var/ri-18.l-L1
URL:https://schleswig-holstein.sh/blog/veranstaltungen/flensburg-niederdeutsches-schauspiel-de-vadder/var/ri-18.l-L1
END:VEVENT
END:VCALENDAR