BEGIN:VCALENDAR
VERSION:2.0
PRODID:-//eventon.com NONSGML v1.0//EN
CALSCALE:GREGORIAN
METHOD:PUBLISH
BEGIN:VEVENT
UID:69eb627aaf364
DTSTAMP:20260424T123050Z
DTSTART:20260419T170000Z
DTEND:20260418T220000Z
LOCATION:Landestheater Flensburg Rathausstraße 22\,  24937 Flensburg
SUMMARY:Charleys Tante - Niederdeutscher Schwank
DESCRIPTION:Die Studenten Jakob und Charley sind schwer verliebt. Doch für
  das lang ersehnte Treffen mit ihren Angebeteten\,  Anne und Kathrin\,  ben
 ötigen sie die Unterstützung von Charleys reicher Tante aus Südamerika a
 ls „Anstandsdame“. Leider verzögert sich Donna Lucias Ankunft und so m
 uss kurzerhand der Gärtner Bruns diese Rolle übernehmen und sich[..]\nhtt
 ps://schleswig-holstein.sh/blog/veranstaltungen/charleys-tante-niederdeutsc
 her-schwank/var/ri-2.l-L1
URL:https://schleswig-holstein.sh/blog/veranstaltungen/charleys-tante-niederdeutscher-schwank/var/ri-2.l-L1
END:VEVENT
END:VCALENDAR