BEGIN:VCALENDAR
VERSION:2.0
PRODID:-//eventon.com NONSGML v1.0//EN
CALSCALE:GREGORIAN
METHOD:PUBLISH
BEGIN:VEVENT
UID:69eb62eb335fd
DTSTAMP:20260424T123243Z
DTSTART:20260425T173000Z
DTEND:20260425T215900Z
LOCATION:Niederdeutsche BÃ¼hne Flensburg - Studio Augustastr. 5\,  24937 Flensburg
SUMMARY:Flensburg: Annie Heger - musikalische Lesung op Platt
DESCRIPTION:AUF DAS LEBEN! | UP DAT LEVEN! â€žDie bekommt ihr nicht durchâ€
 œ\,  sagte Opa beim ersten Blick ins Kinderbettchen. Immer wieder steht Ann
 ie in ihrem Leben an einen Punkt\,  wo dieser Satz in ihr nachhallt. Ihr We
 g ist mit unzÃ¤hligen schlechten Diagnosen gepflastert\,  doch sie feiert d
 as Leben â€“ trotzdem[..]\nhttps://schleswig-holstein.sh/blog/veranstaltung
 en/flensburg-annie-heger-musikalische-lesung-op-platt/
URL:https://schleswig-holstein.sh/blog/veranstaltungen/flensburg-annie-heger-musikalische-lesung-op-platt/
END:VEVENT
END:VCALENDAR