BEGIN:VCALENDAR
VERSION:2.0
PRODID:-//eventon.com NONSGML v1.0//EN
CALSCALE:GREGORIAN
METHOD:PUBLISH
BEGIN:VEVENT
UID:69e7b25b1789a
DTSTAMP:20260421T172235Z
DTSTART:20260417T173000Z
DTEND:20260417T193000Z
LOCATION:Kajott Eutin Seepark 1\,  23701 Eutin\,  Eutin 23701\,  DE
SUMMARY:Kultur an Deck mit TonabgebeR
DESCRIPTION:Seit Jahren sind die Musiker von TonabgebeR aus Schleswig-Holst
 ein live und im A-Street-Studio in Hamburg präsent. Sie bezeichnen sich se
 lbst als Gute-Laune-Band und begeistern mit einem ausgefallenen Konzept das
  Publikum. Die Idee dahinter: Bekannte Songs aus verschiedenen Genres mit e
 igenen deutschen Texten zu versehen immer den Fokus darauf gerichtet\,  pho
 netisch[..]\nhttps://schleswig-holstein.sh/blog/veranstaltungen/kultur-an-d
 eck-mit-tonabgeber/
URL:https://schleswig-holstein.sh/blog/veranstaltungen/kultur-an-deck-mit-tonabgeber/
END:VEVENT
END:VCALENDAR