BEGIN:VCALENDAR
VERSION:2.0
PRODID:-//eventon.com NONSGML v1.0//EN
CALSCALE:GREGORIAN
METHOD:PUBLISH
BEGIN:VEVENT
UID:69ed12d67b1cb
DTSTAMP:20260425T191534Z
DTSTART:20260402T090000Z
DTEND:20260402T120000Z
LOCATION:Galerie 11\,  Itzehoe Breitenburger Straße 1\,  25524 Itzehoe
SUMMARY:AugenBlicke - Irene Heller-Janton und Isabel Lange
DESCRIPTION:Mit Irene Heller-Janton und Isabel Lange stellt die Galerie 11 
 zwei Künstlerinnen vor\,  die seit Jahrzehnten Teil der Kreativszene des L
 andes sind. Beide starteten mit einer handwerklichen Ausbildung und haben i
 nzwischen ihren eignen\,  unverkennbaren künstlerischen Ausdruck gefunden.
  Irene Heller-Janton studierte Gestaltung in Hamburg bei Gisela Bührmann u
 nd ist seit 50[..]\nhttps://schleswig-holstein.sh/blog/veranstaltungen/auge
 nblicke-irene-heller-janton-und-isabel-lange/var/ri-1.l-L1
URL:https://schleswig-holstein.sh/blog/veranstaltungen/augenblicke-irene-heller-janton-und-isabel-lange/var/ri-1.l-L1
END:VEVENT
END:VCALENDAR