BEGIN:VCALENDAR
VERSION:2.0
PRODID:-//eventon.com NONSGML v1.0//EN
CALSCALE:GREGORIAN
METHOD:PUBLISH
BEGIN:VEVENT
UID:69eb629aa9fd0
DTSTAMP:20260424T123122Z
DTSTART:20260409T090000Z
DTEND:20260430T120000Z
LOCATION:Galerie 11\,  Itzehoe Breitenburger Straße 1\,  25524 Itzehoe
SUMMARY:AugenBlicke
DESCRIPTION:Mit Irene Heller-Janton und Isabel Lange stellt die Galerie 11 
 zwei Künstlerinnen vor\,  die seit Jahrzehnten Teil der Kreativszene des L
 andes sind. Beide starteten mit einer handwerklichen Ausbildung und haben i
 nzwischen ihren eignen\,  unverkennbaren künstlerischen Ausdruck gefunden.
  Irene Heller-Janton studierte Gestaltung in Hamburg bei Gisela Bührmann u
 nd ist seit 50[..]\nhttps://schleswig-holstein.sh/blog/veranstaltungen/auge
 nblicke/
URL:https://schleswig-holstein.sh/blog/veranstaltungen/augenblicke/
END:VEVENT
END:VCALENDAR