BEGIN:VCALENDAR
VERSION:2.0
PRODID:-//eventon.com NONSGML v1.0//EN
CALSCALE:GREGORIAN
METHOD:PUBLISH
BEGIN:VEVENT
UID:69ecaac44c956
DTSTAMP:20260425T115132Z
DTSTART:20260416T090000Z
DTEND:20260507T120000Z
LOCATION:Galerie 11\,  Itzehoe Breitenburger Straße 1\,  25524 Itzehoe
SUMMARY:AugenBlicke
DESCRIPTION:Mit Irene Heller-Janton und Isabel Lange stellt die Galerie 11 
 zwei Künstlerinnen vor\,  die seit Jahrzehnten Teil der Kreativszene des L
 andes sind. Beide starteten mit einer handwerklichen Ausbildung und haben i
 nzwischen ihren eignen\,  unverkennbaren künstlerischen Ausdruck gefunden.
  Irene Heller-Janton studierte Gestaltung in Hamburg bei Gisela Bührmann u
 nd ist seit 50[..]\nhttps://schleswig-holstein.sh/blog/veranstaltungen/auge
 nblicke/var/ri-1.l-L1
URL:https://schleswig-holstein.sh/blog/veranstaltungen/augenblicke/var/ri-1.l-L1
END:VEVENT
END:VCALENDAR