BEGIN:VCALENDAR
VERSION:2.0
PRODID:-//eventon.com NONSGML v1.0//EN
CALSCALE:GREGORIAN
METHOD:PUBLISH
BEGIN:VEVENT
UID:69eca9ad03b01
DTSTAMP:20260425T114653Z
DTSTART:20260425T150000Z
DTEND:20260425T160000Z
LOCATION:Rendsburg\,  Marienkirche Marienkirche
SUMMARY:Orgelkonzert: Romantik pur an der Gläsernen Orgel St. Marien Rendsburg
DESCRIPTION:Volker Linhardt spielt Werke von Josef Rheinberger\,  Calille S
 aint Saens\,  Clément Loret u.a. Eintritt frei &#8211; Spenden erbeten\nht
 tps://schleswig-holstein.sh/blog/veranstaltungen/orgelkonzert-romantik-pur-
 an-der-glaesernen-orgel-st-marien-rendsburg/
URL:https://schleswig-holstein.sh/blog/veranstaltungen/orgelkonzert-romantik-pur-an-der-glaesernen-orgel-st-marien-rendsburg/
END:VEVENT
END:VCALENDAR