BEGIN:VCALENDAR
VERSION:2.0
PRODID:-//eventon.com NONSGML v1.0//EN
CALSCALE:GREGORIAN
METHOD:PUBLISH
BEGIN:VEVENT
UID:69e6532c24c67
DTSTAMP:20260420T162412Z
DTSTART:20260510T150000Z
DTEND:20260510T215900Z
LOCATION:Christkirche Rendsburg Paradepl.\,  24768 Rendsburg
SUMMARY:Händels Messiah in der Christkirche Rendsburg
DESCRIPTION:Sophia Körber\,  Sopran Meili Li\,  Altus Noah Schaul\,  Tenor
  Jan-Hendrik Jensch\,  Bass Stadtkantorei Rendsburg Orchester mit historisc
 hen Instrumenten Leitung: Volker Linhardt Karten zu 25\, -€/20\, -€/12\
 , -€ bei der Rendsburg-Information (VvK-Gebühr) Tel. 04331-6634566\,  so
 wie online unter www.eventfrog.de/stadtkantorei\nhttps://schleswig-holstein
 .sh/blog/veranstaltungen/haendels-messiah-in-der-christkirche-rendsburg/
URL:https://schleswig-holstein.sh/blog/veranstaltungen/haendels-messiah-in-der-christkirche-rendsburg/
END:VEVENT
END:VCALENDAR