BEGIN:VCALENDAR
VERSION:2.0
PRODID:-//eventon.com NONSGML v1.0//EN
CALSCALE:GREGORIAN
METHOD:PUBLISH
BEGIN:VEVENT
UID:69e65357a5670
DTSTAMP:20260420T162455Z
DTSTART:20260530T150000Z
DTEND:20260530T215900Z
LOCATION:
SUMMARY:Orgelkonzert „Bilder“ auf der Gläsernen Orgel St. Marien Rendsburg
DESCRIPTION:Orgelkonzert „Bilder“ Eberhard Lauer\,  Hamburg Werke von J
 ohann Sebastian Bach\,  Olivier Messiaen\,  Modest Mussorgsky u.a. Eintritt
  frei\nhttps://schleswig-holstein.sh/blog/veranstaltungen/orgelkonzert-bild
 er-auf-der-glaesernen-orgel-st-marien-rendsburg/
URL:https://schleswig-holstein.sh/blog/veranstaltungen/orgelkonzert-bilder-auf-der-glaesernen-orgel-st-marien-rendsburg/
END:VEVENT
END:VCALENDAR