BEGIN:VCALENDAR
VERSION:2.0
PRODID:-//eventon.com NONSGML v1.0//EN
CALSCALE:GREGORIAN
METHOD:PUBLISH
BEGIN:VEVENT
UID:69e65373ed0cd
DTSTAMP:20260420T162523Z
DTSTART:20260613T150000Z
DTEND:20260613T215900Z
LOCATION:Christkirche Rendsburg Paradepl.\,  24768 Rendsburg
SUMMARY:Orgelkonzert BACH in der Christkirche Rendsburg
DESCRIPTION:Orgelkonzert Bach? Bach! Volker Linhardt spielt Orgelwerke von 
 und über Johann Sebastian Bach u.a. eines der 2025 neuentdeckten Orgelwerk
 e Eintritt frei &#8211; Spenden erbeten\nhttps://schleswig-holstein.sh/blog
 /veranstaltungen/orgelkonzert-bach-in-der-christkirche-rendsburg/
URL:https://schleswig-holstein.sh/blog/veranstaltungen/orgelkonzert-bach-in-der-christkirche-rendsburg/
END:VEVENT
END:VCALENDAR