BEGIN:VCALENDAR
VERSION:2.0
PRODID:-//eventon.com NONSGML v1.0//EN
CALSCALE:GREGORIAN
METHOD:PUBLISH
BEGIN:VEVENT
UID:69e6536f0fd63
DTSTAMP:20260420T162519Z
DTSTART:20260701T161000Z
DTEND:20260701T215900Z
LOCATION:St. Marienkirche Rendsburg (Altstadt) An der Marienkirche\,  24768 Rendsburg
SUMMARY:Sommerkonzert I  St. Marien Rendsburg
DESCRIPTION:Konzert für Trompete und Orgel Morten Jensen\,  Trompete Volke
 r Linhardt\,  Orgel Werke aus Barock\,  Klassik und Romantik Eintritt frei\
 nhttps://schleswig-holstein.sh/blog/veranstaltungen/sommerkonzert-i-st-mari
 en-rendsburg/
URL:https://schleswig-holstein.sh/blog/veranstaltungen/sommerkonzert-i-st-marien-rendsburg/
END:VEVENT
END:VCALENDAR