BEGIN:VCALENDAR
VERSION:2.0
PRODID:-//eventon.com NONSGML v1.0//EN
CALSCALE:GREGORIAN
METHOD:PUBLISH
BEGIN:VEVENT
UID:69e6558a76509
DTSTAMP:20260420T163418Z
DTSTART:20260708T161000Z
DTEND:20260708T215900Z
LOCATION:St. Marienkirche Rendsburg (Altstadt) An der Marienkirche\,  24768 Rendsburg
SUMMARY:Sommerkonzert II St. Marien Rendsburg
DESCRIPTION:Volker Bohnsack\,  Cello Volker Linhardt\,  Kunstharmonium Werk
 e u.a. von Josef Rheinberger\,  Felix Mendelssohn Bartholdy\,  Franz Schube
 rt u.a. Eintritt frei\nhttps://schleswig-holstein.sh/blog/veranstaltungen/s
 ommerkonzert-ii-st-marien-rendsburg/
URL:https://schleswig-holstein.sh/blog/veranstaltungen/sommerkonzert-ii-st-marien-rendsburg/
END:VEVENT
END:VCALENDAR