BEGIN:VCALENDAR
VERSION:2.0
PRODID:-//eventon.com NONSGML v1.0//EN
CALSCALE:GREGORIAN
METHOD:PUBLISH
BEGIN:VEVENT
UID:69e653716c9cc
DTSTAMP:20260420T162521Z
DTSTART:20260715T161000Z
DTEND:20260715T110000Z
LOCATION:St. Marienkirche Rendsburg (Altstadt) An der Marienkirche\,  24768 Rendsburg
SUMMARY:Sommerkonzert III St. Marien Rendsburg
DESCRIPTION:Werke von Claudio Monteverdi\,  Heinrich Schütz\,  Johann Hier
 onymus Kapsberger u.a. Anne-Beke Sontag\,  Mezzosopran Tobias Tietze\,  The
 orbe Eintritt frei\nhttps://schleswig-holstein.sh/blog/veranstaltungen/somm
 erkonzert-iii-st-marien-rendsburg/
URL:https://schleswig-holstein.sh/blog/veranstaltungen/sommerkonzert-iii-st-marien-rendsburg/
END:VEVENT
END:VCALENDAR