BEGIN:VCALENDAR
VERSION:2.0
PRODID:-//eventon.com NONSGML v1.0//EN
CALSCALE:GREGORIAN
METHOD:PUBLISH
BEGIN:VEVENT
UID:69e65376a0f3c
DTSTAMP:20260420T162526Z
DTSTART:20260722T161000Z
DTEND:20260722T215900Z
LOCATION:St. Marienkirche Rendsburg (Altstadt) An der Marienkirche\,  24768 Rendsburg
SUMMARY:Sommerkonzert IV St. Marien Rendsburg: Magie der Poesie
DESCRIPTION:Paul Gerhardt´s Sprachwunder in Texten und Liedern Carsten Hen
 schel\,  Countertenor Juliane Felsch-Grunow\,  Orgel Werke von Bach\,  Hass
 e\,  Fischer\,  Kaiser u.a. Eintritt frei\nhttps://schleswig-holstein.sh/bl
 og/veranstaltungen/sommerkonzert-iv-st-marien-rendsburg-magie-der-poesie/
URL:https://schleswig-holstein.sh/blog/veranstaltungen/sommerkonzert-iv-st-marien-rendsburg-magie-der-poesie/
END:VEVENT
END:VCALENDAR