BEGIN:VCALENDAR
VERSION:2.0
PRODID:-//eventon.com NONSGML v1.0//EN
CALSCALE:GREGORIAN
METHOD:PUBLISH
BEGIN:VEVENT
UID:69e6684d7f497
DTSTAMP:20260420T175421Z
DTSTART:20260729T161000Z
DTEND:20260729T215900Z
LOCATION:St. Marienkirche Rendsburg (Altstadt) An der Marienkirche\,  24768 Rendsburg
SUMMARY:Sommerkonzert V St. Marien Rendsburg PIAF-ESQUE
DESCRIPTION:*PIAF-ESQUE* Cate Evens\,  Gesang Markus Schröder\,  Piano Ein
 tritt frei\nhttps://schleswig-holstein.sh/blog/veranstaltungen/sommerkonzer
 t-v-st-marien-rendsburg-piaf-esque/
URL:https://schleswig-holstein.sh/blog/veranstaltungen/sommerkonzert-v-st-marien-rendsburg-piaf-esque/
END:VEVENT
END:VCALENDAR