BEGIN:VCALENDAR
VERSION:2.0
PRODID:-//eventon.com NONSGML v1.0//EN
CALSCALE:GREGORIAN
METHOD:PUBLISH
BEGIN:VEVENT
UID:69e6532c9d6fd
DTSTAMP:20260420T162412Z
DTSTART:20260805T161000Z
DTEND:20260805T215900Z
LOCATION:St. Marienkirche Rendsburg (Altstadt) An der Marienkirche\,  24768 Rendsburg
SUMMARY:Sommerkonzert VI St. Marien Rendsburg: Jazz und andere Verwandte
DESCRIPTION:Sommerkonzert VI Jazz und andere Verwandte Philipp Broda\,  Sax
 ophon Axel Riemann\,  Klavier spielen Jazz und Verwandtes von Duke Ellingto
 n und aus eigener Feder Eintritt frei\nhttps://schleswig-holstein.sh/blog/v
 eranstaltungen/sommerkonzert-vi-st-marien-rendsburg-jazz-und-andere-verwand
 te/
URL:https://schleswig-holstein.sh/blog/veranstaltungen/sommerkonzert-vi-st-marien-rendsburg-jazz-und-andere-verwandte/
END:VEVENT
END:VCALENDAR